BEGIN:VCALENDAR
CALSCALE:GREGORIAN
PRODID:-//Condeon, vioma GmbH//iCal 2.0//EN
VERSION:2.0
BEGIN:VEVENT
UID:38106046069ec29ae9a36f4.56721157
DTSTAMP:20260425T024046Z
DTSTART;VALUE=DATE:20260814
DTEND;VALUE=DATE:20260815
SUMMARY:eerste schooldag
DESCRIPTION:Tijd voor de mooie kanten van het leven\n\n\nU heeft de geleg
 enheid – wij zorgen voor het welzijn van uw gasten\n\n\nVoor de culina
 ire invulling zorgt onze chef-kok Thomas Eilers en zijn team. Ons servic
 eteam zorgt met veel hartelijkheid en oog voor detail ervoor dat uw fees
 t een heel persoonlijke touch krijgt.\n\n\nWij kijken ernaar uit u te ve
 rwelkomen!
LOCATION:Romantikhotel Jagdhaus Eiden
URL:https://www.jagdhaus-eiden.de/nl/culinair-evenementen/evenementen/det
 ail.date.246-55273.2026-08-15.html
END:VEVENT
END:VCALENDAR
