BEGIN:VCALENDAR
CALSCALE:GREGORIAN
PRODID:-//Condeon, vioma GmbH//iCal 2.0//EN
VERSION:2.0
BEGIN:VEVENT
UID:7659737469ec2a07397f38.68854685
DTSTAMP:20260425T024215Z
DTSTART:20260512T150000Z
DTEND:20260512T160000Z
SUMMARY:Shantykoor Oldenburg
DESCRIPTION:Vanavond verwelkomen wij exclusief voor onze hotelgasten het 
 Shantykoor Oldenburg.\n\n\nDe traditionele shanty’s waren het muzikale
  thema dat in 1974 door enkele leden van de Marinekameradschaft Oldenbur
 g in Nedersaksen werd gekozen\, waaruit het Shantykoor Oldenburg is onts
 taan. Met een geschiedenis van meer dan 35 jaar behoort dit koor tot de 
 oudste en meest ervaren vertolkers van maritieme liederen in Noord-Duits
 land.\n\n\nMet gemiddeld 23 zangers\, begeleid door accordeon\, slaggita
 ren\, basgitaar\, mondharmonica en banjo\, maar ook met a capella zang\,
  biedt het koor een breed muzikaal spectrum\, tot en met vierstemmige za
 ng.
LOCATION:Romantikhotel Jagdhaus Eiden
URL:https://www.jagdhaus-eiden.de/nl/culinair-evenementen/evenementen/det
 ail.date.246-55191.2026-05-12.html
END:VEVENT
END:VCALENDAR
