BEGIN:VCALENDAR
CALSCALE:GREGORIAN
PRODID:-//Condeon, vioma GmbH//iCal 2.0//EN
VERSION:2.0
BEGIN:VEVENT
UID:28505902369ec289c7d4ff6.03864913
DTSTAMP:20260425T023612Z
DTSTART:20261231T173000Z
DTEND:20270101T010000Z
SUMMARY:Oudejaarsgala-avond
DESCRIPTION:Tickets kopen\n\n\nDe toegang tot ons restaurant is vanaf 18:
 30 uur (avondkleding wordt gewaardeerd).\n\n\nOm 19:00 uur serveren wij 
 een glas champagne als aperitief. Vanaf 19:15 uur beginnen wij met het s
 erveren van het menu.\n\n\nGedurende het menu (tot 22:30 uur) zijn het a
 peritief (champagne)\, de door ons geselecteerde tafelwijnen\, mineraalw
 ater en frisdranken inbegrepen in de menuprijs.\n\n\nDigestieven\, sterk
 e dranken en koffie zijn niet inbegrepen in de menuprijs\, evenmin als a
 lle dranken die na 22:30 uur worden besteld of geserveerd.\n\n\nDe avond
  wordt muzikaal begeleid door entertainer en DJ Olli.\n\n\nOns oudejaars
 menu:\n\n\nTataki van tonijn Misocrème | sesam | avocado | shiitake\n\n
 \n\n\n\nCappuccino van schaaldieren en curry\n\n\n\n\n\nZeebaars Zeekraa
 l | maïs | wortel | kippenhuid | verjus\n\n\n\n\n\nRunderfilet Rossini 
 Truffeljus | ganzenleverpraline | knolselderijcrème | bladspinazie\n\n\
 n\n\n\nCamembert de Normandie Veenbes | peterselie | brioche crumble\n\n
 \n\n\n\nPruim Haver | vanille | yuzu\n\n\nMidnight snack:\n\n\nAls klein
 e foodstation in de lounge & als flying service:\n\n\nExtra curryworst O
 ma Leeni’s kippensoep volgens oud recept\n\n\nVroegboekkorting per per
 soon: €185\,00\n\n\nEen veganistisch of vegetarisch menu is alleen mog
 elijk op aanvraag vooraf.\n\n\nWij hebben geen allergieën of intolerant
 ies van u of uw gasten genoteerd. Indien er toch speciale wensen zijn\, 
 verzoeken wij u dit direct bij de reservering aan te geven. Wij laten u 
 vervolgens weten of hier rekening mee kan worden gehouden.\n\n\nWij vrag
 en uw begrip dat wij in ons restaurant geen diabetische maaltijden aanbi
 eden.\n\n\nIndien uw allergieën of intoleranties levensbedreigend zijn\
 , vragen wij uw begrip dat wij deze verantwoordelijkheid niet kunnen dra
 gen. In dat geval kunnen wij u geen gerechten aanbieden.\n\n\nTeruggave 
 van tickets is mogelijk tot 19 december 2026. Latere teruggave\, inwisse
 ling of verrekening is helaas niet mogelijk.
LOCATION:Romantikhotel Jagdhaus Eiden
URL:https://www.jagdhaus-eiden.de/nl/culinair-evenementen/evenementen/det
 ail.date.246-55131.2026-12-31.html
END:VEVENT
END:VCALENDAR
