BEGIN:VCALENDAR
CALSCALE:GREGORIAN
PRODID:-//Condeon, vioma GmbH//iCal 2.0//EN
VERSION:2.0
BEGIN:VEVENT
UID:104232737769ec2a07ba4369.19129186
DTSTAMP:20260425T024215Z
DTSTART:20260430T160000Z
DTEND:20260430T170000Z
SUMMARY:Meiboom
DESCRIPTION:Op 30 april ‘zetten’ we samen met onze gasten een meiboom
  op. Alle gasten zijn uitgenodigd om bij een drankje aanwezig te zijn bi
 j deze oude traditie.\n\n\nIn Ammerland hoort het bij de traditie dat me
 n in de nacht van 31 op 1 mei probeert een meiboom uit de buurt te stele
 n\, om deze eind mei tegen een vergoeding in de vorm van (alcoholische) 
 drankjes terug te geven. Tot die tijd willen we onze meiboom bewaken en 
 zijn we blij met uw hulp.\n\n\nVertaald met DeepL.com (gratis versie)
LOCATION:Romantikhotel Jagdhaus Eiden
URL:https://www.jagdhaus-eiden.de/nl/culinair-evenementen/evenementen/det
 ail.date.246-55121.2026-04-30.html
END:VEVENT
END:VCALENDAR
