BEGIN:VCALENDAR
CALSCALE:GREGORIAN
PRODID:-//Condeon, vioma GmbH//iCal 2.0//EN
VERSION:2.0
BEGIN:VEVENT
UID:30084529969ec29ed7b53d4.11139569
DTSTAMP:20260425T024149Z
DTSTART:20261226T110000Z
DTEND:20261226T121500Z
SUMMARY:Kerstmenu 26 december
DESCRIPTION:Ons kerstmenu in Jagdhaus Eiden!\n\nDenk nu alvast aan Kerstm
 is\, want voorpret is toch het leukste...\n\n\nBoek nu het menu\n\nOok d
 it jaar bieden we tijdens de kerstdagen weer een speciaal menu aan voor 
 de lunch.\nDe prijs van het ticket geldt voor het kerstmenu van 3 gangen
  (voorgerecht of soep/hoofdgerecht/dessert of koffie) en bedraagt € 68
 \,50 per persoon.\n\nTer plaatse kunt u er ook voor kiezen om het menu u
 it te breiden naar 4 of 5 gangen.\nDe meerprijs wordt dan ter plaatse be
 rekend.\n\nVoor reserveringen van meer dan 12 personen kunt u rechtstree
 ks contact met ons opnemen via e-mail (restaurant@jagdhaus-eiden.de).\n\
 nWij verzoeken u vriendelijk om u strikt aan de gereserveerde tijd te ho
 uden. Dit helpt ons om tijdens de feestdagen een soepel verloop voor al 
 onze gasten te garanderen. Mocht uw planning veranderen\, laat het ons d
 an tijdig weten\, zodat wij hier flexibel op kunnen reageren.\n\nIndien 
 u allergieën of intoleranties heeft\, of als u een veganistisch of vege
 tarisch menu wenst\, verzoeken wij u dit direct bij de reservering door 
 te geven. Wij zullen u vervolgens laten weten of hier rekening mee kan w
 orden gehouden. Mocht u levensbedreigende allergieën of intoleranties h
 ebben\, vragen wij uw begrip voor het feit dat wij hiervoor geen verantw
 oordelijkheid kunnen dragen. In dat geval zullen wij u geen maaltijden a
 anbieden. \nWij vragen uw begrip voor het feit dat er in ons restaurant 
 geen diabetesmaaltijden worden aangeboden.\n\nTeruggeven van de kaarten 
 is mogelijk tot 19-12-2026.\nLater teruggeven\, inwisselen of verrekenen
  is helaas niet mogelijk.\n\nVitello Tonnato „in een moderne variant
 “\nRoze gekookte kalfsfilet | Tonijncrème | Kappertjes | Sjalot | Ruc
 ola\n\nof\n\nVariatie op de wortel\nVerse geitenkaas | Pistache | Mangoc
 hutney\n\nOf\n\nTopinambursoepje\nHazelnoot | Truffel | Williams-peer \
 n\n***\n\nZander uit Zwischenahner\nLardo de Colonnata | Zuurkoolcrème 
 | Champagne-beurre blanc | Savooiekool\n\nof\n\nTwee soorten Oldenburgse
  eend [ rosé gebakken borst & praline ]\nKruidensaus | Sinaasappel-holl
 andaise | Pastinaak | Rode-koolcrème | Kleine knoedel\n\nof\n\nGestoofd
 e ossenwang\nMadeira-jus | Wortelgroenten | Selderijcrème | Kruidige aa
 rdappelschijfjes\n\nof\n\nGestoofde selderij\nSinaasappel-hollandaise | 
 Pastinaak | Rode-koolcrème | Kleine knoedel\n\n***\n\nMelkchocolade\nHa
 zelnoot | Abrikoos\n\nOf\n\nKoffie\n\nDriegangenmenu (voorgerecht of soe
 p | hoofdgerecht | dessert of koffie)\n\nViergangenmenu (voorgerecht | s
 oep | hoofdgerecht | dessert of koffie)\n\nMenu-upgrades:\n\nGillardeau-
 oesters per stuk 5\,5 €\n\nSelectie van de beste rauwmelkse kazen van 
 het seizoen 14 €\n\n
LOCATION:Romantikhotel Jagdhaus Eiden
URL:https://www.jagdhaus-eiden.de/nl/culinair-evenementen/evenementen/det
 ail.date.246-54935.2026-12-26.html
END:VEVENT
END:VCALENDAR
