BEGIN:VCALENDAR
CALSCALE:GREGORIAN
PRODID:-//Condeon, vioma GmbH//iCal 2.0//EN
VERSION:2.0
BEGIN:VEVENT
UID:120399053869ec2956088927.78383259
DTSTAMP:20260425T023918Z
DTSTART:20261225T110000Z
DTEND:20261225T121500Z
SUMMARY:Kerstmenu 25 december
DESCRIPTION:Ons kerstmenu in Jagdhaus Eiden!\n\nDenk nu alvast aan Kerstm
 is\, want voorpret is toch het leukste...\n\nBoek nu het menu\n\n\nOok d
 it jaar bieden we tijdens de kerstdagen weer een speciaal lunchmenu aan.
 \nDe prijs van het ticket geldt voor het kerstmenu met 3 gangen (voorger
 echt of soep/hoofdgerecht/dessert of koffie) en bedraagt € 68\,50 per 
 persoon.\n\nTer plaatse kunt u dan ook nog kiezen voor een uitbreiding n
 aar 4 of 5 gangen.\nDe meerprijs wordt dan ter plaatse berekend.\n\nVoor
  reserveringen van meer dan 12 personen kunt u rechtstreeks contact met 
 ons opnemen via e-mail (restaurant@jagdhaus-eiden.de).\n\nWij verzoeken 
 u vriendelijk om u strikt aan de gereserveerde tijd te houden. Dit helpt
  ons om tijdens de feestdagen een soepel verloop voor al onze gasten te 
 garanderen. Mocht uw planning veranderen\, laat het ons dan tijdig weten
 \, zodat wij hier flexibel op kunnen reageren.\n\nIndien u allergieën o
 f intoleranties heeft\, of als u een veganistisch of vegetarisch menu we
 nst\, verzoeken wij u dit direct bij de reservering door te geven. Wij z
 ullen u vervolgens laten weten of hier rekening mee kan worden gehouden.
  Mocht u levensbedreigende allergieën of intoleranties hebben\, vragen 
 wij uw begrip voor het feit dat wij hiervoor geen verantwoordelijkheid k
 unnen dragen. In dat geval zullen wij u geen maaltijden aanbieden. \nWij
  vragen uw begrip voor het feit dat er in ons restaurant geen maaltijden
  voor diabetici worden aangeboden.\n\nDe kaarten kunnen tot 19-12-2026 w
 orden geretourneerd.\nLatere retournering\, inwisseling of verrekening i
 s helaas niet mogelijk.\n\nVitello Tonnato „in een moderne variant“\
 nRoze gekookte kalfsfilet |Tonijncrème | Kappertjes | Sjalot | Rucola\n
 \nof\n\nVariatie op de wortel\nVerse geitenkaas | Pistache | Mangochutne
 y\n\nOf\n\nTopinambursoepje\nHazelnoot | Truffel | Williams-peer \n\n**
 *\n\nZander uit Zwischenahner\nLardo de Colonnata | Zuurkoolcrème | Cha
 mpagne-beurre blanc | Savooiekool\n\nof\n\nTwee soorten Oldenburgse eend
  [ rosé gebakken borst & praline ]\nKruidensaus | Sinaasappel-hollandai
 se | Pastinaak | Rode-koolcrème | Kleine knoedel\n\nof\n\nGestoofde oss
 enwang\nMadeira-jus | Wortelgroenten | Selderijcrème | Kruidige aardapp
 elschijfjes\n\nOf\n\nGestoofde selderij\nSinaasappel-hollandaise | Pasti
 naak | Rode-koolcrème | Kleine knoedel\n\n***\n\nMelkchocolade\nHazelno
 ot | Abrikoos\n\nOf\n\nKoffie\n\nDriegangenmenu(voorgerecht of soep | ho
 ofdgerecht | dessert of koffie)\n\nViergangenmenu (voorgerecht | soep | 
 hoofdgerecht | dessert of koffie)\n\nMenu-upgrades:\n\nGillardeau-oester
 s per stuk 5\,5 €\n\nSelectie van de beste rauwmelkse kazen van het se
 izoen 14 €\n\n 
LOCATION:Romantikhotel Jagdhaus Eiden
URL:https://www.jagdhaus-eiden.de/nl/culinair-evenementen/evenementen/det
 ail.date.246-54933.2026-12-25.html
END:VEVENT
END:VCALENDAR
