BEGIN:VCALENDAR
CALSCALE:GREGORIAN
PRODID:-//Condeon, vioma GmbH//iCal 2.0//EN
VERSION:2.0
BEGIN:VEVENT
UID:77680463569ec28f8d76a01.92839786
DTSTAMP:20260425T023744Z
DTSTART:20260510T094500Z
DTEND:20260510T120000Z
SUMMARY:Moederdagbrunch
DESCRIPTION:Bent u nog op zoek naar iets speciaals voor Moederdag?\n\nDit
  jaar bieden wij van 11.45 tot 14.00 uur een Moederdagbrunch aan.\n\n(zi
 e hieronder voor het menu\, onder voorbehoud van wijzigingen)\n\nVoorger
 echtenbuffet\n\n11:45 uur tot 13:15 uur\n\nWarme gerechten van het buffe
 t\n\n12:15 uur tot 13:45 uur\n\nDessertbuffet\n\n12:45 uur tot 14:00 uur
 \n\n \n\nPrijs per persoon (vanaf 15 jaar) € 55\,90\n\nKinderen van 7
 -14 jaar € 19\,90\n\nKinderen van 0-6 jaar gratis\n\nReserveren kan te
 lefonisch via 04403 698433 of per e-mail aan restaurant@jagdhaus-eiden.d
 e\n\n\nOnze Moederdagbrunch\n\n\nOm te beginnen\n\nEen selectie van broo
 d en broodjes\, evenals croissants\nen pain au chocolat van onze bakker\
 n\nDiverse smeersels\, vleeswaren\, kaas\,\nhuisgemaakte jam\, honing va
 n onze imker\n\nYoghurt en kwark van melkveehouderij Diers\n\nHuisgemaak
 te muesli\, ontbijtgranen en kleurrijk fruit\n\nGerookte vis\, matjes en
  meer\n\nVerse sappen en smoothies\n\nKoffie- en theespecialiteiten\n\nP
 rosecco-bar\n\nKlassieke eiergerechten\, worstjes\, spek\, ovengebakken 
 tomaten\n\nAntipasti-station met Italiaanse klassiekers\, buffelmozzarel
 la\, mortadella\, parmaham\, olijven en Italiaanse kaas\n\nOesterbar met
  citroen\, sjalottenvinaigrette en Chesterbrood\n\nWarme gerechten\n\nAs
 pergesoep met daslook-gremolata\n\nArgentijnse rosbief met kruidenkorst\
 , portjus\,\nmediterrane groenten en aardappelgratin\n\nZeeduivel en gar
 nalen uit de wok in Thaise currysaus\nmet Aziatische groenten\, cashewno
 ten en basmatirijst\n\nNoorse zalmfilet in bladerdeeg\nmet jonge spinazi
 e en mousselinesaus\n\nHuisgemaakte gnocchi\n\n\nDesserts:\n\nChocoladef
 ontein met fruit\n\nCrème brûlée\n\nChocolade-kokosreep\n\nHoningraat
 \n\nSelectie van de beste seizoenskazen\n\n
LOCATION:Romantikhotel Jagdhaus Eiden
URL:https://www.jagdhaus-eiden.de/nl/culinair-evenementen/evenementen/det
 ail.date.246-54903.2026-05-10.html
END:VEVENT
END:VCALENDAR
