BEGIN:VCALENDAR
CALSCALE:GREGORIAN
PRODID:-//Condeon, vioma GmbH//iCal 2.0//EN
VERSION:2.0
BEGIN:VEVENT
UID:14751895469ec2a0695e587.23269239
DTSTAMP:20260425T024214Z
DTSTART:20261228T143000Z
DTEND:20261228T225959Z
SUMMARY:Gala - opera\, operette\, musical
DESCRIPTION:Het concert wordt uitgevoerd door twee gerenommeerde operazan
 gers met pianobegeleiding en biedt een selectie van de mooiste musicalme
 lodieën\, duetten en aria’s uit opera’s en operettes. U kunt onder 
 andere luisteren naar de aria van Musette uit „La Bohème“ van G. Pu
 ccini\, de Barkarolle uit „Hoffmanns Erzählungen“ van J. Offenbach\
 , het Wolga-lied uit de operette „Zarewitsch“ en vele andere klassie
 kers.\n\nMedewerkers:\n\n    Maria Penc – sopraan\n\n    Konrad De
 bski – tenor\n\n    Dr. Simon Musiol – piano
LOCATION:Auf dem Hohen Ufer 24 26160 Bad Zwischenahn
URL:https://www.jagdhaus-eiden.de/nl/culinair-evenementen/evenementen/det
 ail.date.246-54869.2026-12-28.html
END:VEVENT
END:VCALENDAR
