BEGIN:VCALENDAR
CALSCALE:GREGORIAN
PRODID:-//Condeon, vioma GmbH//iCal 2.0//EN
VERSION:2.0
BEGIN:VEVENT
UID:124558561869ec2997850c58.94639980
DTSTAMP:20260425T024023Z
DTSTART:20261011T073000Z
DTEND:20261011T150000Z
SUMMARY:Speciale opening: herfstimpressies in het park
DESCRIPTION:Het park laat in de herfst zijn mooiste kleuren\, rijke vruch
 ten en laatste bloemen zien – een bijzondere ervaring voor bezoekers. 
 De horeca in het park is geopend.\n\nProgramma (onder voorbehoud van wij
 zigingen):\n\n    9.30–17.00 uur: Verkoop van herfstheesters\, boomk
 wekerij G. D. Böhlje\, Westerstede\n\n    11:00 & 14:00 uur: Rondleid
 ingen „Indian Summer“ met de parktuiniers Björn Ehsen en Lennart B
 öhlje\n\n    13:00–16:00 uur: Tuinadvies door de Niedersächsische 
 Gartenakademie
LOCATION:Romantikhotel Jagdhaus Eiden
URL:https://www.jagdhaus-eiden.de/nl/culinair-evenementen/evenementen/det
 ail.date.246-54867.2026-10-11.html
END:VEVENT
END:VCALENDAR
