BEGIN:VCALENDAR
CALSCALE:GREGORIAN
PRODID:-//Condeon, vioma GmbH//iCal 2.0//EN
VERSION:2.0
BEGIN:VEVENT
UID:123530079669ec2a06d1a4c5.60171455
DTSTAMP:20260425T024214Z
DTSTART:20260807T180000Z
DTEND:20260807T215959Z
SUMMARY:Illumination – “Lichtmagie in het park”
DESCRIPTION:Het evenement „Illumination – Lichtmagie in het park“ d
 ompelt het Park der Gärten van 7 augustus tot en met 13 september 2026 
 elke avond onder in een fascinerende zee van kleuren. Creatief tuinlicht
 ontwerp gaat hand in hand met indrukwekkende ensceneringen en kunstzinni
 ge lichtobjecten.\n\nDuizenden lichtbronnen toveren bomen\, bloembedden 
 en paden om in stralende kunstwerken. Beelden\, projecties en geometrisc
 he figuren sieren de wandelroute en creëren sfeervolle werelden van lic
 ht en schaduw – soms gezellig\, soms avant-gardistisch. Een indrukwekk
 ende avondbeleving voor alle zintuigen
LOCATION:Romantikhotel Jagdhaus Eiden
URL:https://www.jagdhaus-eiden.de/nl/culinair-evenementen/evenementen/det
 ail.date.246-54865.2026-08-07.html
END:VEVENT
END:VCALENDAR
