BEGIN:VCALENDAR
CALSCALE:GREGORIAN
PRODID:-//Condeon, vioma GmbH//iCal 2.0//EN
VERSION:2.0
BEGIN:VEVENT
UID:183659898969ec29af42d712.55321967
DTSTAMP:20260425T024047Z
DTSTART:20260620T120000Z
DTEND:20260620T150000Z
SUMMARY:“Misdaadwandeling Bad Zwischenahn”
DESCRIPTION:Een boeiende wandeling in Bad Zwischenahn\, op het spoor van 
 misdaden!\n\nTijdens deze bijzondere wandeling volgen we de sporen van h
 istorische en moderne misdaadzaken in Bad Zwischenahn. We ontmoeten daar
 bij ook twee lokale auteurs die spannende misdaadromans hebben geschreve
 n die zich in de omgeving afspelen. Naast moord en doodslag staan ook an
 dere bijzondere misdaden centraal tijdens de tocht.\n\nDe ongeveer 5 kil
 ometer lange route loopt langs het Zwischenahner Meer – uiteraard op v
 eilige afstand van de legendarische „Monsterwels“ – en eindigt op 
 een plek die geluk belooft: het casino van Bad Zwischenahn.\n\nHet trefp
 unt is voor de klokkentoren van de St.-Johannes-kerk
LOCATION:Romantikhotel Jagdhaus Eiden
URL:https://www.jagdhaus-eiden.de/nl/culinair-evenementen/evenementen/det
 ail.date.246-54863.2026-06-20.html
END:VEVENT
END:VCALENDAR
