BEGIN:VCALENDAR
CALSCALE:GREGORIAN
PRODID:-//Condeon, vioma GmbH//iCal 2.0//EN
VERSION:2.0
BEGIN:VEVENT
UID:109265722069ec2885bdca14.49551499
DTSTAMP:20260425T023549Z
DTSTART:20260501T080000Z
DTEND:20260501T091000Z
SUMMARY:Boottocht op het Zwischenahner Meer
DESCRIPTION:Een rondvaart met de Weiße Flotte op het Zwischenahner Meer 
 duurt ongeveer 70 minuten en begint bij de veerbootsteiger in het kuurpa
 rk. Tijdens de tocht hoort u boeiende verhalen over Bad Zwischenahn en d
 e geschiedenis van het meer.\n\nGeniet van de frisse zeelucht\, prachtig
 e uitzichten en een ontspannen sfeer – ideaal voor natuurliefhebbers e
 n mensen die op zoek zijn naar rust. Aan boord verwent de Ammerländer G
 astronomie u met koffie\, gebak en warme gerechten.\n\nIn- en uitstappen
  is mogelijk bij alle aanlegsteigers. Wijzigingen in de dienstregeling a
 ls gevolg van het weer of chartertochten zijn voorbehouden\; van novembe
 r tot maart geldt de winterdienstregeling.\n\nMet het rondvaartticket ku
 nt u de tocht in Rostrup of Dreibergen onderbreken. Het overtocht-ticket
  geldt voor een halve route tussen Bad Zwischenahn en Dreibergen.
LOCATION:Anleger im Kurpark 26160 Bad Zwischenahn
URL:https://www.bad-zwischenahn.de/de/veranstaltungen/termine/100983929.p
 hp?splitId=48&from=2026-05-01%2010:00:00&to=2026-05-01%2011:10:00
END:VEVENT
END:VCALENDAR
