BEGIN:VCALENDAR
CALSCALE:GREGORIAN
PRODID:-//Condeon, vioma GmbH//iCal 2.0//EN
VERSION:2.0
BEGIN:VEVENT
UID:48889199569ec29aec9d442.58548488
DTSTAMP:20260425T024046Z
DTSTART:20270320T230000Z
DTEND:20270321T225959Z
SUMMARY:Wine & Dine
DESCRIPTION:Op 21 maart 2027 vindt onze vierde wijnproeverij plaats. Note
 er deze datum alvast in uw agenda\; meer informatie en de mogelijkheid o
 m te reserveren volgen in maart.
LOCATION:Romantikhotel Jagdhaus Eiden
URL:https://www.jagdhaus-eiden.de/nl/culinair-evenementen/evenementen/det
 ail.date.246-54645.2027-03-21.html
END:VEVENT
END:VCALENDAR
