BEGIN:VCALENDAR
CALSCALE:GREGORIAN
PRODID:-//Condeon, vioma GmbH//iCal 2.0//EN
VERSION:2.0
BEGIN:VEVENT
UID:51470953169ec285b971b98.90876546
DTSTAMP:20260425T023507Z
DTSTART:20261025T103000Z
DTEND:20261025T140000Z
SUMMARY:Oktoberfest im Eiden
DESCRIPTION:O’zapft is. We halen het Oktoberfest naar Ammerland.\n\nTic
 kets hier \n\nOp 25 oktober 2026 verwelkomen we u tussen 11.30 en 15.00
  uur in het Jagdhaus Eiden\, met uitzicht op het Zwischenahner Meer.\n\n
 Het blaasorkest Tinnen zorgt voor een goede sfeer.\n\nBovendien heeft on
 s keukenteam een kleine kaart met extra Beierse specialiteiten voor u sa
 mengesteld.\n\nIn de ticketprijs zijn een warm gerecht (keuze uit een pa
 ar Beierse Weißwurst met zoete mosterd\, een klein Leberkässemmel\, K
 äsespätzle met gebakken uien of Serviettenknödel met champignonroom) 
 en een Brezel inbegrepen.\n\nDat wordt een feestje.\n\nTickets hier\n\nT
 eruggeven van de tickets is alleen mogelijk tot 11-10-2026.
LOCATION:Romantikhotel Jagdhaus Eiden
URL:https://www.jagdhaus-eiden.de/nl/culinair-evenementen/evenementen/det
 ail.date.246-54643.2026-10-25.html
END:VEVENT
END:VCALENDAR
