BEGIN:VCALENDAR
CALSCALE:GREGORIAN
PRODID:-//Condeon, vioma GmbH//iCal 2.0//EN
VERSION:2.0
BEGIN:VEVENT
UID:133850963669ec28ab611a11.83366297
DTSTAMP:20260425T023627Z
DTSTART:20261122T110000Z
DTEND:20261122T130000Z
SUMMARY:Ganzenbuffet 22 november 2026
DESCRIPTION:In november is het ganzenseizoen – ook bij ons!\n\nTickets 
 hier\n\nKom op 15 november 2026 om 12.00 uur naar ons jaarlijkse ganzenb
 uffet en geniet van vers gesneden gans\, vergezeld van heerlijke appelro
 de kool\, wijnkool\, spruitjes en Ammerländer boerenkool. Daarbij serve
 ren we broodknoedels\, aardappelknoedels\, aardappelballetjes en gestoof
 de appel.\n\nDe prijs per persoon bedraagt € 58\,50.\n\nTickets kunnen
  alleen tot 1 november 2025 worden geretourneerd.\n\nTickets hier 
LOCATION:Romantikhotel Jagdhaus Eiden
URL:https://www.jagdhaus-eiden.de/nl/culinair-evenementen/evenementen/det
 ail.date.246-54641.2026-11-22.html
END:VEVENT
END:VCALENDAR
