BEGIN:VCALENDAR
CALSCALE:GREGORIAN
PRODID:-//Condeon, vioma GmbH//iCal 2.0//EN
VERSION:2.0
BEGIN:VEVENT
UID:203515596569e50dc96e2474.85914523
DTSTAMP:20260419T171553Z
DTSTART;VALUE=DATE:20260814
DTEND;VALUE=DATE:20260815
SUMMARY:school's in
DESCRIPTION:Time for the finer things in life\n\n\nYou have the occasion 
 - we take care of the well-being of your guests\n\n\nOur head chef Thoma
 s Eilers and his team will take care of the culinary delights. Our servi
 ce team will ensure that your celebration is given a very personal touch
  with a great deal of cordiality and attention to detail.\n\n\nWe look f
 orward to seeing you!
LOCATION:Romantikhotel Jagdhaus Eiden
URL:https://www.jagdhaus-eiden.de/en/cuisine-events/events/detail.date.24
 6-55273.2026-08-15.html
END:VEVENT
END:VCALENDAR
