BEGIN:VCALENDAR
CALSCALE:GREGORIAN
PRODID:-//Condeon, vioma GmbH//iCal 2.0//EN
VERSION:2.0
BEGIN:VEVENT
UID:177978022869e50e71eee117.11044069
DTSTAMP:20260419T171841Z
DTSTART:20261003T073000Z
DTEND:20261003T150000Z
SUMMARY:Fall Market in the Park
DESCRIPTION:At the Autumn Market in the Park der Gärten\, numerous vendo
 rs will present a diverse selection of plants\, fruit\, culinary special
 ties\, and floral arrangements. The offerings are complemented by clubs 
 and organizations providing information on topics related to “green”
  living and environmental protection.\n\nA large apple and fruit sale of
 fers a fresh variety of vitamins. In addition\, experienced pomologists 
 will be on hand to share their expertise through apple variety identific
 ation: For a small fee\, visitors can have their own apples identified
 —up to five varieties per person\, with five specimens required per va
 riety.\n\nAnother highlight is the popular apple variety exhibition feat
 uring around 200 different varieties\, showcasing the impressive diversi
 ty of regional apples.\n\nShare this event:\nFeel free to share this eve
 nt with your friends.
LOCATION:Romantikhotel Jagdhaus Eiden
URL:https://www.jagdhaus-eiden.de/en/cuisine-events/events/detail.date.24
 6-55223.2026-10-03.html
END:VEVENT
END:VCALENDAR
