BEGIN:VCALENDAR
CALSCALE:GREGORIAN
PRODID:-//Condeon, vioma GmbH//iCal 2.0//EN
VERSION:2.0
BEGIN:VEVENT
UID:178256017269e50ed8c05866.86183592
DTSTAMP:20260419T172024Z
DTSTART:20260925T163000Z
DTEND:20260925T193000Z
SUMMARY:Whiskey Hike
DESCRIPTION:On the Whisky Hike\, a tour guide will share fascinating fact
 s about the “water of life.” You’ll also hear interesting stories 
 about Bad Zwischenahn\, including tales of the region’s former distill
 eries.\n\nThe tour starts at the ferry landing in the spa gardens and le
 ads past the Ammerländer Bauernhaus local history museum through the mo
 orland to the museum in Specken. During the hike\, you’ll have the opp
 ortunity to sample various whiskies and learn more about their origins a
 nd unique characteristics.\n\nThis tour is a special experience—both f
 or connoisseurs and for those new to the world of whisky.\n\nPrice: €5
 0 per person
LOCATION:Romantikhotel Jagdhaus Eiden
URL:https://www.jagdhaus-eiden.de/en/cuisine-events/events/detail.date.24
 6-55221.2026-09-25.html
END:VEVENT
END:VCALENDAR
