BEGIN:VCALENDAR
CALSCALE:GREGORIAN
PRODID:-//Condeon, vioma GmbH//iCal 2.0//EN
VERSION:2.0
BEGIN:VEVENT
UID:137899297669e50ea13e4b89.52211026
DTSTAMP:20260419T171929Z
DTSTART:20260830T173000Z
DTEND:20260830T215959Z
SUMMARY:The world famous Glenn Miller Orchestra - directed by Uli Pletten
 dorff
DESCRIPTION:The “SWING FOREVER” program centers on the timeless music
  of Glenn Miller\, whose unmistakable sound had a decisive influence on 
 the big band era.\n\nThe show not only delights with instrumental classi
 cs but also features strong vocal performances: a talented solo singer a
 nd the five-member vocal group “Moonlight Serenaders\,” inspired by 
 the famous Modernaires\, provide special highlights and bring the atmosp
 here of the golden swing era to life.\n\nIn short: Look forward to a rou
 sing show full of sweet and swing sounds.\n\nAdvance ticket sales are al
 ready underway—secure your tickets now for a lively evening with Uli P
 lettendorff and the Glenn Miller Orchestra!\n\nShare this event:\nFeel f
 ree to share this event with your friends.
LOCATION:Romantikhotel Jagdhaus Eiden
URL:https://www.jagdhaus-eiden.de/en/cuisine-events/events/detail.date.24
 6-55219.2026-08-30.html
END:VEVENT
END:VCALENDAR
