BEGIN:VCALENDAR
CALSCALE:GREGORIAN
PRODID:-//Condeon, vioma GmbH//iCal 2.0//EN
VERSION:2.0
BEGIN:VEVENT
UID:106271876369e50d6b7e1202.25698878
DTSTAMP:20260419T171419Z
DTSTART:20260712T073000Z
DTEND:20260712T160000Z
SUMMARY:Daylilies in the Park – with an auction and sale
DESCRIPTION:The daylily roundabout in the Park der Gärten is a real attr
 action during the summer blooming season—not just for daylily enthusia
 sts and connoisseurs. The garden has been recognized by the American Day
 lily Society as both an “exemplary show garden” and a “historic ga
 rden\,” and is one of the park’s special botanical highlights.\n\nPr
 ogram (subject to change):\n\n\n\n\n\n9:30 a.m. – 6:00 p.m.: Sale of s
 pecial daylilies and complementary perennials by the Bremermann Perennia
 l Nursery (Wiefelstede-Gristede)\n\n\n11:00 a.m.: Auction of selected da
 ylilies by Christian Wandscher\n\n\n12:00 p.m. and 2:00 p.m.: Guided tou
 rs of the impressive daylily collection\n\n\n1:00 – 4:00 p.m.: Advice 
 on all gardening questions provided by the Lower Saxony Garden Academy\n
 \n\n\n\n\n\nIn the daylily garden in Bad Zwischenahn\, one beautiful blo
 om follows another\, creating an impressive display of color.\n\n
LOCATION:Romantikhotel Jagdhaus Eiden
URL:https://www.jagdhaus-eiden.de/en/cuisine-events/events/detail.date.24
 6-55217.2026-07-12.html
END:VEVENT
END:VCALENDAR
