BEGIN:VCALENDAR
CALSCALE:GREGORIAN
PRODID:-//Condeon, vioma GmbH//iCal 2.0//EN
VERSION:2.0
BEGIN:VEVENT
UID:145902268569e50e71849ea2.08077496
DTSTAMP:20260419T171841Z
DTSTART:20260611T090000Z
DTEND:20260611T100000Z
SUMMARY:Tour of the Bruns Eel Smokehouse
DESCRIPTION:In Bad Zwischenahn\, you’ll find two of Germany’s most be
 autiful and largest specialty fish shops. There you can purchase the fam
 ous Zwischenahn smoked eels\, high-quality smoked salmon\, and many othe
 r fish specialties—fresh daily from our in-house smokehouse.\n\nMonthl
 y smokehouse tours:\nFrom February through November\, you have the oppor
 tunity to take a look behind the scenes and tour the eel smokehouse on t
 he second Thursday of every month. Afterward\, you’ll have the chance 
 to shop. A tasting (for an additional fee) can be arranged in advance at
  one of the restaurants.\n\nRegistration is available in the shops or di
 rectly on-site.\n\nRegistration by phone: 04403 93860
LOCATION:Romantikhotel Jagdhaus Eiden
URL:https://www.jagdhaus-eiden.de/en/cuisine-events/events/detail.date.24
 6-55215.2026-06-11.html
END:VEVENT
END:VCALENDAR
