BEGIN:VCALENDAR
CALSCALE:GREGORIAN
PRODID:-//Condeon, vioma GmbH//iCal 2.0//EN
VERSION:2.0
BEGIN:VEVENT
UID:204269238969e50cb6270ce8.09074393
DTSTAMP:20260419T171118Z
DTSTART:20260516T080000Z
DTEND:20260516T150000Z
SUMMARY:Rhododendrons and their companions in the park
DESCRIPTION:Just in time for the peak of the rhododendron and azalea bloo
 ming season\, the Association for the Promotion of Garden Culture invite
 s you to an informative weekend at the Park of Gardens. At the informati
 on booth\, visitors can get tips on choosing the best location\, fertili
 zing\, general care\, and common diseases and pests. A selection of rhod
 odendrons will also be available for purchase.\n\nProgram (Saturday & Su
 nday\, 10:00 a.m. – 5:00 p.m.):\n\n\n\n\n\nInteresting facts and activ
 ities related to rhododendrons at the association pavilion (Association 
 for the Promotion of Garden Culture)\n\n\nSale of rhododendrons and comp
 lementary perennials\n\n\n\n\n\n\nSunday:\n\n\n\n\n\n1:00 – 4:00 p.m.:
  Advice on all gardening-related questions from the Lower Saxony Garden 
 Academy\n\n\n3:00 p.m.: Guided tour “Experience the blooming rhododend
 ron collection” with the park’s horticultural director\, Björn Ehse
 n (Meeting point: Lower Saxony Garden Academy garden meeting spot)\n\n\n
LOCATION:Romantikhotel Jagdhaus Eiden
URL:https://www.jagdhaus-eiden.de/en/cuisine-events/events/detail.date.24
 6-55213.2026-05-16.html
END:VEVENT
END:VCALENDAR
