BEGIN:VCALENDAR
CALSCALE:GREGORIAN
PRODID:-//Condeon, vioma GmbH//iCal 2.0//EN
VERSION:2.0
BEGIN:VEVENT
UID:144707905969e7b0ecde2497.27699355
DTSTAMP:20260421T171628Z
DTSTART:20261220T100000Z
DTEND:20261220T170000Z
SUMMARY:Sonntagsbummel in Bad Zwischenahn
DESCRIPTION:\n\n\n\n\n\n\n\n\n\n\n\nDas Einkaufserlebnis in Bad Zwischena
 hn zeichnet sich nicht nur durch die große Auswahl an Geschäften aus\,
  sondern vor allem durch die besondere\, einladende Atmosphäre des Orte
 s. Gepflegte Straßen und idyllische Plätze laden zum entspannten Bumme
 ln ein und verleihen dem Shopping einen ganz eigenen Charme. Besucher k
 önnen hier exklusive Modeboutiquen\, Schmuckgeschäfte\, Kunstgalerien 
 und handwerkliche Betriebe entdecken. Ob handgefertigter Schmuck\, stilv
 olle Kleidung\, kunstvolle Keramik oder regionale Delikatessen – für 
 jeden Geschmack und jedes Budget ist etwas dabei.\n\n\nRegelmäßig stat
 tfindende Wochen- und Kunsthandwerkermärkte bieten zusätzlich die Mög
 lichkeit\, Produkte direkt von lokalen Erzeugern zu erwerben. Frische Le
 bensmittel vom Bauernhof\, liebevoll gestaltete Geschenkideen und region
 ale Spezialitäten machen den Einkauf zu einem besonderen Erlebnis.\n\n\
 nEine Besonderheit in Bad Zwischenahn ist die sogenannte 7-Tage-Shopping
 -Regel. Als staatlich anerkannter Kurort dürfen Geschäfte hier vom 15.
  Dezember bis zum 31. Oktober auch an Sonn- und Feiertagen täglich bis 
 zu acht Stunden öffnen. Ausgenommen sind der Karfreitag und der 1. Weih
 nachtstag\, an denen keine Sonntagsöffnungen erlaubt sind. In der Zeit 
 vom 1. November bis zum 14. Dezember bleiben die Geschäfte sonntags ges
 chlossen. An diesen stillen Sonntagen sind zudem Veranstaltungen untersa
 gt\, die nicht dem ruhigen Charakter der Tage entsprechen\, wie etwa Sch
 autage oder Tage der offenen Tür.\n\n\nAm Volkstrauertag und Totensonnt
 ag sind gewerbliche Ausstellungen\, beispielsweise von Gärtnereien oder
  Blumenläden\, nicht gestattet. Verkaufsstellen dürfen jedoch für bis
  zu drei Stunden außerhalb der üblichen Gottesdienstzeiten öffnen\, u
 m in begrenztem Umfang Blumen und Pflanzen anzubieten. Nichtgewerbliche 
 Veranstaltungen\, wie Basare von Vereinen oder gemeinnützigen Organisat
 ionen\, sind weiterhin erlaubt.\n\n\nEin zusätzlicher Tipp für Gäste:
  Die Gästekarte\, die jeder Übernachtungsgast erhält\, lohnt sich bes
 onders. Sie bietet zahlreiche Vergünstigungen\, etwa bei Eintritten\, i
 n Restaurants oder beim Einkaufen\, und ist damit ein praktischer Beglei
 ter für den Aufenthalt in Bad Zwischenahn.\n\n\n\n\n\n\n\n\n\n\n\n
LOCATION:Auf dem Hohen Ufer 24 26160 Bad Zwischenahn
URL:https://www.bad-zwischenahn.de/de/veranstaltungen/termine/100986647.p
 hp?splitId=1&from=2026-12-20%2011:00:00&to=2026-12-20%2018:00:00
END:VEVENT
END:VCALENDAR
