BEGIN:VCALENDAR
CALSCALE:GREGORIAN
PRODID:-//Condeon, vioma GmbH//iCal 2.0//EN
VERSION:2.0
BEGIN:VEVENT
UID:28456651669e6cd165e0060.45250843
DTSTAMP:20260421T010422Z
DTSTART;VALUE=DATE:20260814
DTEND;VALUE=DATE:20260815
SUMMARY:Einschulung im Eiden
DESCRIPTION:Zeit für die schönen Seiten des Lebens\n\n\nSie haben den A
 nlass – Wir kümmern uns um das Wohl Ihrer Gäste\n\n\nFür die Kulina
 rik sorgt unser Küchenchef Thomas Eilers und sein Team. Unser Servicete
 am sorgt mit viel Herzlichkeit und der Liebe zum Detail\, dass Ihre Feie
 r eine ganz persönliche Note erhält.\n\n\nWir freuen uns auf Sie!
LOCATION:Romantikhotel Jagdhaus Eiden
URL:https://www.jagdhaus-eiden.de/de/kulinarik-events/events/detail.date.
 246-55273.2026-08-15.html
END:VEVENT
END:VCALENDAR
