BEGIN:VCALENDAR
CALSCALE:GREGORIAN
PRODID:-//Condeon, vioma GmbH//iCal 2.0//EN
VERSION:2.0
BEGIN:VEVENT
UID:157843196869e6cbe4c51b13.91765232
DTSTAMP:20260421T005916Z
DTSTART:20261003T073000Z
DTEND:20261003T150000Z
SUMMARY:Herbstmarkt im Park
DESCRIPTION:\n\n\nBeim Herbstmarkt im Park der Gärten präsentieren zahl
 reiche Ausstellerinnen und Aussteller eine vielfältige Auswahl aus Pfla
 nzen- und Obstanbau\, kulinarischen Spezialitäten sowie Floristik. Erg
 änzt wird das Angebot durch Vereine und Institutionen\, die rund um die
  Themen „Grün“ und Umweltschutz informieren.\n\n\nEin großer Apfel
 - und Obstverkauf sorgt für frische Vitaminvielfalt. Zudem stehen erfah
 rene Pomologen bereit\, um im Rahmen der Apfelsortenbestimmung ihr Fachw
 issen weiterzugeben: Gegen eine kleine Gebühr können mitgebrachte Äpf
 el bestimmt werden – bis zu fünf Sorten pro Person\, wobei jeweils f
 ünf Exemplare je Sorte benötigt werden.\n\n\nEin weiteres Highlight is
 t die beliebte Apfelsortenausstellung mit rund 200 verschiedenen Sorten\
 , die die beeindruckende Vielfalt regionaler Äpfel zeigt.\n\n\nEvent te
 ilen: Teilen Sie diese Veranstaltung gerne mit Ihren Freunden.\n\n\n
LOCATION:Elmendorfer Straße 40 26160 Bad Zwischenahn
URL:https://www.bad-zwischenahn.de/de/veranstaltungen/termine/100917427.p
 hp
END:VEVENT
END:VCALENDAR
