BEGIN:VCALENDAR
CALSCALE:GREGORIAN
PRODID:-//Condeon, vioma GmbH//iCal 2.0//EN
VERSION:2.0
BEGIN:VEVENT
UID:98934778569e6cc2e8c2814.49637962
DTSTAMP:20260421T010030Z
DTSTART:20260925T163000Z
DTEND:20260925T193000Z
SUMMARY:Whisky-Wanderung
DESCRIPTION:Bei der Whisky-Wanderung vermittelt Ihnen ein Gästeführer W
 issenswertes rund um das „Wasser des Lebens“. Zusätzlich hören Sie
  interessante Geschichten aus Bad Zwischenahn\, unter anderem über frü
 here Brennereien der Region.\n\n\nDie Tour startet am Fähranleger im Ku
 rpark und führt vorbei am Heimatmuseum Ammerländer Bauernhaus durch di
 e Moorlandschaft bis zum Museum in Specken. Während der Wanderung haben
  Sie die Gelegenheit\, verschiedene Whiskys zu probieren und mehr über 
 ihre Herkunft und Besonderheiten zu erfahren.\n\n\nDiese Tour ist ein be
 sonderes Erlebnis – sowohl für Genießer als auch für Einsteiger in 
 die Welt des Whiskys.\n\n\nPreis: 50 € pro Person
LOCATION:Anleger im Kurpark 26160 Bad Zwischenahn
URL:https://www.bad-zwischenahn.de/de/veranstaltungen/termine/100280660.p
 hp?splitId=66&from=2026-09-25%2018:30:00&to=2026-09-25%2021:30:00
END:VEVENT
END:VCALENDAR
