BEGIN:VCALENDAR
CALSCALE:GREGORIAN
PRODID:-//Condeon, vioma GmbH//iCal 2.0//EN
VERSION:2.0
BEGIN:VEVENT
UID:22851542269e6ccb9663709.36368675
DTSTAMP:20260421T010249Z
DTSTART:20260712T073000Z
DTEND:20260712T160000Z
SUMMARY:Taglilien im Park – mit Versteigerung & Verkauf
DESCRIPTION:Das Taglilienrondell im Park der Gärten ist während der som
 merlichen Blütezeit ein echter Anziehungspunkt – nicht nur für Liebh
 aber und Kenner der Hemerocallis. Die Anlage wurde von der Amerikanische
 n Tagliliengesellschaft sowohl als „vorbildlicher Schaugarten“ als a
 uch als „historischer Garten“ ausgezeichnet und zählt zu den besond
 eren pflanzlichen Highlights des Parks.\n\n\nProgramm (Änderungen vorbe
 halten):\n\n\n\n\n\n9:30 – 18:00 Uhr: Verkauf besonderer Taglilien und
  passender Begleitstauden durch die Staudengärtnerei Bremermann (Wiefel
 stede-Gristede)\n\n\n11:00 Uhr: Versteigerung ausgewählter Taglilien du
 rch Christian Wandscher\n\n\n12:00 und 14:00 Uhr: Führungen durch die e
 indrucksvolle Taglilien-Sammlung\n\n\n13:00 – 16:00 Uhr: Beratung zu a
 llen Gartenfragen durch die Niedersächsische Gartenakademie\n\n\n\n\n\n
 \n\n\nIm Tagliliengarten in Bad Zwischenahn reiht sich eine Blüte schö
 ner an die nächste und sorgt für ein beeindruckendes Farbenspiel.
LOCATION:Elmendorfer Straße 40 26160 Bad Zwischenahn
URL:https://www.bad-zwischenahn.de/de/veranstaltungen/termine/100914621.p
 hp
END:VEVENT
END:VCALENDAR
