BEGIN:VCALENDAR
CALSCALE:GREGORIAN
PRODID:-//Condeon, vioma GmbH//iCal 2.0//EN
VERSION:2.0
BEGIN:VEVENT
UID:206328842469e6cd16812bf9.65647395
DTSTAMP:20260421T010422Z
DTSTART:20260611T090000Z
DTEND:20260611T100000Z
SUMMARY:Besichtigung der Aalräucherei Bruns
DESCRIPTION:In Bad Zwischenahn erwarten Sie zwei der schönsten und grö
 ßten Fischfachgeschäfte Deutschlands. Dort erhalten Sie die berühmten
  Zwischenahner Räucheraale\, hochwertigen Räucherlachs sowie viele wei
 tere Fischspezialitäten – täglich frisch aus der hauseigenen Räuche
 rei.\n\n\nMonatliche Räucherei-Führungen: Von Februar bis November hab
 en Sie die Möglichkeit\, jeweils am zweiten Donnerstag im Monat einen B
 lick hinter die Kulissen zu werfen und die Aalräucherei zu besichtigen.
  Im Anschluss besteht die Gelegenheit zum Einkauf. Eine Verkostung (gege
 n Aufpreis) kann nach vorheriger Absprache in einem der Restaurants orga
 nisiert werden.\n\n\nDie Anmeldung ist in den Geschäften oder direkt vo
 r Ort möglich.\n Telefonische Anmeldung: 04403 93860
LOCATION:Feldlinie 5 26160 Bad Zwischenahn
URL:https://www.bad-zwischenahn.de/de/veranstaltungen/termine/100119971.p
 hp?splitId=123&from=2026-06-11%2011:00:00&to=2026-06-11%2012:00:00
END:VEVENT
END:VCALENDAR
