BEGIN:VCALENDAR
CALSCALE:GREGORIAN
PRODID:-//Condeon, vioma GmbH//iCal 2.0//EN
VERSION:2.0
BEGIN:VEVENT
UID:17007187869e6cc8fe62e49.49184934
DTSTAMP:20260421T010207Z
DTSTART:20260516T080000Z
DTEND:20260516T150000Z
SUMMARY:Rhododendron und ihre Begleiter im Park
DESCRIPTION:Passend zur Hochphase der Rhododendron- und Azaleenblüte lä
 dt der Verein zur Förderung der Gartenkultur e.V. zu einem informativen
  Wochenende im Park der Gärten ein. Am Beratungsstand erhalten Besucher
  unter anderem Tipps zur optimalen Standortwahl\, zur Düngung\, zur all
 gemeinen Pflege sowie zu typischen Krankheiten und Schädlingen. Zudem w
 ird eine Auswahl an Rhododendren zum Kauf angeboten.\n\n\nProgramm (Sams
 tag & Sonntag\, 10:00 – 17:00 Uhr):\n\n\n\n\n\nWissenswertes und Aktio
 nen rund um Rhododendren am Vereinspavillon (Verein zur Förderung der G
 artenkultur e.V.)\n\n\nVerkauf von Rhododendren und passenden Begleitsta
 uden\n\n\n\n\n\nSonntag:\n\n\n\n\n\n13:00 – 16:00 Uhr: Beratung zu all
 en Fragen rund um den Garten durch die Niedersächsische Gartenakademie\
 n\n\n15:00 Uhr: Führung „Das blühende Rhododendronsortiment erleben
 “ mit dem gärtnerischen Leiter des Parks\, Björn Ehsen (Treffpunkt: 
 Gartentreff der Niedersächsischen Gartenakademie)\n\n\n
LOCATION:Elmendorfer Straße 40 26160 Bad Zwischenahn
URL:https://www.bad-zwischenahn.de/de/veranstaltungen/termine/100914610.p
 hp
END:VEVENT
END:VCALENDAR
