BEGIN:VCALENDAR
CALSCALE:GREGORIAN
PRODID:-//Condeon, vioma GmbH//iCal 2.0//EN
VERSION:2.0
BEGIN:VEVENT
UID:16940606969e6cc03a54223.35870198
DTSTAMP:20260421T005947Z
DTSTART:20260512T150000Z
DTEND:20260512T160000Z
SUMMARY:Shanty Chor Oldenburg
DESCRIPTION:Heute Abend begrüßen wir den Shanty Chor Oldenburg exklusiv
  für unsere Hotelgäste bei uns.  \n\n\n\n\n\nDie früher genannten S
 hanties - waren es\, die sich im Jahre 1974 mehrere Mitglieder der Marin
 ekameradschaft Oldenburg in Niedersachsen zum musikalischen Thema machte
 n und den Shanty-Chor Oldenburg aus der Taufe hoben. Mit seiner mehr als
  35-jährigen Geschichte ist dieser Chor einer der ältesten und erfahre
 nsten Chöre des maritimen Liedguts im norddeutschen Raum.\n\n\nMit eine
 r durchschnittlichen Chorstärke von 23 Sängern\, begleitet von Akkorde
 on\, Rhythmusgitarren\, Bassgitarre\, Mundharmonika und Banjo\, aber auc
 h mit Gesang a capella\, bieten sich vielfältige musikalische Möglichk
 eiten bis hin zum vierstimmigen Gesang.
LOCATION:Romantikhotel Jagdhaus Eiden
URL:https://www.jagdhaus-eiden.de/de/kulinarik-events/events/detail.date.
 246-55191.2026-05-12.html
END:VEVENT
END:VCALENDAR
